BEGIN:VCALENDAR
VERSION:2.0
PRODID:-//Rock ON - ECPv6.15.20//NONSGML v1.0//EN
CALSCALE:GREGORIAN
METHOD:PUBLISH
X-WR-CALNAME:Rock ON
X-ORIGINAL-URL:https://www.rockon.sk
X-WR-CALDESC:Udalosti pre Rock ON
REFRESH-INTERVAL;VALUE=DURATION:PT1H
X-Robots-Tag:noindex
X-PUBLISHED-TTL:PT1H
BEGIN:VTIMEZONE
TZID:Europe/Bratislava
BEGIN:DAYLIGHT
TZOFFSETFROM:+0100
TZOFFSETTO:+0200
TZNAME:CEST
DTSTART:20220327T010000
END:DAYLIGHT
BEGIN:STANDARD
TZOFFSETFROM:+0200
TZOFFSETTO:+0100
TZNAME:CET
DTSTART:20221030T010000
END:STANDARD
BEGIN:DAYLIGHT
TZOFFSETFROM:+0100
TZOFFSETTO:+0200
TZNAME:CEST
DTSTART:20230326T010000
END:DAYLIGHT
BEGIN:STANDARD
TZOFFSETFROM:+0200
TZOFFSETTO:+0100
TZNAME:CET
DTSTART:20231029T010000
END:STANDARD
BEGIN:DAYLIGHT
TZOFFSETFROM:+0100
TZOFFSETTO:+0200
TZNAME:CEST
DTSTART:20240331T010000
END:DAYLIGHT
BEGIN:STANDARD
TZOFFSETFROM:+0200
TZOFFSETTO:+0100
TZNAME:CET
DTSTART:20241027T010000
END:STANDARD
BEGIN:DAYLIGHT
TZOFFSETFROM:+0100
TZOFFSETTO:+0200
TZNAME:CEST
DTSTART:20250330T010000
END:DAYLIGHT
BEGIN:STANDARD
TZOFFSETFROM:+0200
TZOFFSETTO:+0100
TZNAME:CET
DTSTART:20251026T010000
END:STANDARD
END:VTIMEZONE
BEGIN:VEVENT
DTSTART;TZID=Europe/Bratislava:20240405T200000
DTEND;TZID=Europe/Bratislava:20240405T220000
DTSTAMP:20260426T055534
CREATED:20240405T090602Z
LAST-MODIFIED:20240405T090602Z
UID:4485-1712347200-1712354400@www.rockon.sk
SUMMARY:Mirai koncert Trenčín Piano club
DESCRIPTION:MIRAI  je v súčasnosti najpopulárnejšia česká kapela a je skvelé\, že  sa rozhodla opäť potešiť aj nás na Slovensku. Vypredané halové turné\, obrovský úspech v O2 arénach\, neopísatelná energia\, nové single\, prekvapenia a ešte mnoho ďalšieho\, to všetko čaká fanúšikov v Bratislave\, Trenčíne\, Žiline\, Košiciach a Nitre s názvom sLOVEnsko túr.
URL:https://www.rockon.sk/event/mirai-koncert-trencin-piano-club/
CATEGORIES:Koncert
ATTACH;FMTTYPE=image/jpeg:https://www.rockon.sk/wp-content/uploads/2024/03/mirai-slovensketour-2024.jpg
END:VEVENT
BEGIN:VEVENT
DTSTART;VALUE=DATE:20240330
DTEND;VALUE=DATE:20240331
DTSTAMP:20260426T055534
CREATED:20240126T184511Z
LAST-MODIFIED:20240126T184511Z
UID:4229-1711756800-1711843199@www.rockon.sk
SUMMARY:Trenchtown gangsters vol.II
DESCRIPTION:
URL:https://www.rockon.sk/event/trenchtown-gangsters-vol-ii/
LOCATION:Klub Lúč\, Trenčín\, Slovenská republika
CATEGORIES:Punk
END:VEVENT
BEGIN:VEVENT
DTSTART;VALUE=DATE:20240314
DTEND;VALUE=DATE:20240315
DTSTAMP:20260426T055534
CREATED:20240126T184239Z
LAST-MODIFIED:20240126T184239Z
UID:4226-1710374400-1710460799@www.rockon.sk
SUMMARY:THERION Leviathan tour 2024
DESCRIPTION:
URL:https://www.rockon.sk/event/therion-leviathan-tour-2024/
LOCATION:MAJESTIC MUSIC CLUB\, Bratislava\, Slovenská republika
CATEGORIES:Metal
ATTACH;FMTTYPE=image/jpeg:https://www.rockon.sk/wp-content/uploads/2024/01/408166679_1026467868441935_2167301953489927678_n.jpg
END:VEVENT
BEGIN:VEVENT
DTSTART;VALUE=DATE:20240302
DTEND;VALUE=DATE:20240303
DTSTAMP:20260426T055534
CREATED:20240126T183656Z
LAST-MODIFIED:20240126T183656Z
UID:4223-1709337600-1709423999@www.rockon.sk
SUMMARY:HEĽENINE OČI (SK) + DIRTY SHIRT (RO) - Bratislava
DESCRIPTION:
URL:https://www.rockon.sk/event/helenine-oci-sk-dirty-shirt-ro-bratislava/
LOCATION:Randal club\, Bratislava\, Slovenská republika
ATTACH;FMTTYPE=image/jpeg:https://www.rockon.sk/wp-content/uploads/2024/01/398687606_910823907173656_5841282755072182721_n.jpg
END:VEVENT
BEGIN:VEVENT
DTSTART;VALUE=DATE:20240301
DTEND;VALUE=DATE:20240302
DTSTAMP:20260426T055534
CREATED:20240126T183355Z
LAST-MODIFIED:20240126T183455Z
UID:4220-1709251200-1709337599@www.rockon.sk
SUMMARY:HEĽENINE OČI (SK) + DIRTY SHIRT (RO) - ZLÍN
DESCRIPTION:
URL:https://www.rockon.sk/event/helenine-oci-sk-dirty-shirt-ro-zlin/
LOCATION:Masters of rock cafe\, Zlín\, Česká republika
ATTACH;FMTTYPE=image/jpeg:https://www.rockon.sk/wp-content/uploads/2024/01/398687606_910823907173656_5841282755072182721_n.jpg
END:VEVENT
BEGIN:VEVENT
DTSTART;VALUE=DATE:20240229
DTEND;VALUE=DATE:20240301
DTSTAMP:20260426T055534
CREATED:20240126T182950Z
LAST-MODIFIED:20240126T183055Z
UID:4211-1709164800-1709251199@www.rockon.sk
SUMMARY:HEĽENINE OČI (SK) + DIRTY SHIRT (RO) - PRAHA
DESCRIPTION:
URL:https://www.rockon.sk/event/helenine-oci-sk-dirty-shirt-ro/
LOCATION:Futurum music club\, Praha\, Praha\, Česká republika
ATTACH;FMTTYPE=image/jpeg:https://www.rockon.sk/wp-content/uploads/2024/01/398687606_910823907173656_5841282755072182721_n.jpg
END:VEVENT
BEGIN:VEVENT
DTSTART;TZID=Europe/Bratislava:20231215T180000
DTEND;TZID=Europe/Bratislava:20231215T220000
DTSTAMP:20260426T055534
CREATED:20231208T133741Z
LAST-MODIFIED:20231208T133741Z
UID:4093-1702663200-1702677600@www.rockon.sk
SUMMARY:Darujme Vianoce
DESCRIPTION:Dolnokubínská veselá partia chalanov\, ktorých poznáme pod názvom ich hudobnej skupiny P.O.H. začala vlani s krásnou dobročinnou tradíciou darovania na Vianoce. \nDARUJME VIANOCE je názov benefičného koncertu\, ktorý kapela organizuje tento rok po minuloročnom úspechu opäť a teda už druhýkrát sa stretnú fanúšikovia dobrej a veselej muzičky\, ktorí zároveň môžu urobiť dobrý skutok a pomôcť tým\, ktorí to potrebujú. Zvlášť teraz pred Vianocami. \nTento rok pomoc a výťažok z podujatia smerujú hudobníci na Jožka\, ktorému pred 4 mi rokmi zomrela manželka a ostal na výchovu 5-tich synov sám. \nEšte počas života manželky pracoval Jožko v zahraničí. Vzali si hypotéku\, ale po smrti manželky sa musel ostať doma starať o chlapcov. Najmladší mal vtedy len 2 roky. A keďže stresy a žiaľ robia svoje\, podpísalo sa to aj na Jožkovom zdravotnom stave. Jožko v už aj tak ťažkej životnej situácii dostal infarkt. Momentálne je na invalidnom dôchodku a mesačne minie veľa peňazí na lieky a pre synov mu už takmer nič neostáva. Priznáva\, že boli chvíle\, keď mal pocit\, že to už nezvládne. Okrem dvoch už dospelých synov\, ktorí sa snažia pomôcť ako sa dá\, sa musí starať o troch chlapcov. Jeden je študent na vysokej škole a dvaja navštevujú základnú školu\, pričom  ten najmladší je ešte len prváčik. \nA keďže hudba spája\, ľudia sa radi bavia a  v čase Vianoc aj radi pomáhajú\,  chalani z kapely dúfajú\, že aj tento rok bude koncert vydarený a že sa pomôže aj Jožkovi a jeho synom. \n„Tešíme sa na Vás v piatok\, 15.12. 2023\, o 18:00 pred PIZZÉRIOU OÁZA v Dolnom Kubíne. Okrem nás a našej tvorby si môžete vypočuť aj Nikitah tiež z  Dolného Kubína a kapelu MAYBE\,“ pozývajú chlapci z P.O.H.
URL:https://www.rockon.sk/event/darujme-vianoce/
LOCATION:Pred pizzeriou OÁZA\, Radlinského 1733/33\, Dolný Kubín\, Orava\, Slovenská republika
CATEGORIES:Rock
ATTACH;FMTTYPE=image/jpeg:https://www.rockon.sk/wp-content/uploads/2023/12/407382039_855989636526883_6076173496281420497_n.jpg
END:VEVENT
BEGIN:VEVENT
DTSTART;TZID=Europe/Bratislava:20230818T150000
DTEND;TZID=Europe/Bratislava:20230820T223000
DTSTAMP:20260426T055534
CREATED:20230814T153431Z
LAST-MODIFIED:20230814T154347Z
UID:1957-1692370800-1692570600@www.rockon.sk
SUMMARY:Hody Trebatice
DESCRIPTION:
URL:https://www.rockon.sk/event/hody-trebatice/
LOCATION:Trebatice\, Trebatice\, Slovenská republika
CATEGORIES:Festival
ATTACH;FMTTYPE=image/jpeg:https://www.rockon.sk/wp-content/uploads/2023/08/Poster-Trebatice-01-scaled.jpg
END:VEVENT
BEGIN:VEVENT
DTSTART;VALUE=DATE:20230630
DTEND;VALUE=DATE:20230702
DTSTAMP:20260426T055534
CREATED:20230303T125220Z
LAST-MODIFIED:20230306T181713Z
UID:320-1688083200-1688255999@www.rockon.sk
SUMMARY:20 rokov Topfestu na Zelenej vode
DESCRIPTION:Píše sa rok 2003 festivali neboli toľko v prúde ako teraz\, a tak vznikla myšlienka spraviť najväčší rockový festival s názvom TOPFEST! Začiatky neboli síce najlepšie ale postupom času sa to stupňovalo. Naši skalní fanúšikovia si určite pamätajú kde začínal TOPFEST\, bolo to v Novom Meste nad Váhom na Zelenej vode kde vydržal do roku 2012 kedy sa presunul do Piešťan na letisko. Jeho pôsobenie na letisku bolo krátke ale za to veľmi intenzívne.\nRok 2018 bol prelomový keďže sme sa presunili naspäť na Zelenú vodu síce na krátko keďže rok 2020 z dôvodu pandémie bol zrušený . Rok 2021 bol plný nie uplne dobrých správ\,na poslednú chvílu sme sa museli presťahovať na Jazdiareň banát do Častkoviec. Ale prečo o tomto všetkom hovoríme? Milí fanúsikovia a priaznivci festivalu TOPFEST! Rok 2023 bude plný prekvapení nie len čo sa týka kapiel a programu ale hlavne preto\,že TOPFEST sa vracia tam kde sa narodil a to je ZELENÁ VODA v Novom Meste nad Váhom.\nIntenzívne pracujeme a komunikujeme s headlinerom festivalu ktorého sa dozviete čoskoro.\nZatiaľ vám ale prezradíme dve České kapely na ktoré sa môžete tešiť! Sú nimy kapela Mirai a druhou je kapela Alkehol. Ostatné kapely vám budeme prinášať čoskoro. Ale verte! 20 rokov TOPFESTU oslávime tak ako sa patrí.
URL:https://www.rockon.sk/event/20-rokov-topfestu-na-zelenej-vode/
LOCATION:Zelená Voda\, Slovenská republika
CATEGORIES:Festival
ATTACH;FMTTYPE=image/jpeg:https://www.rockon.sk/wp-content/uploads/2023/03/312906257_5770135506371107_972841219106506561_n.jpg
END:VEVENT
BEGIN:VEVENT
DTSTART;VALUE=DATE:20230609
DTEND;VALUE=DATE:20230611
DTSTAMP:20260426T055534
CREATED:20230303T130033Z
LAST-MODIFIED:20230306T181934Z
UID:324-1686268800-1686441599@www.rockon.sk
SUMMARY:Dobrý festival 2023
DESCRIPTION:Dobrý festival pre ľudí v regióne znamená veľmi veľa a každoročne sa ho zúčastňujú tisícky návštevníkov na začiatku letnej sezóny. DOBRÝ FESTIVAL nadviazal na niekoľkoročnú tradíciu folkového Festivalu dobrej hudby\, ktorý na začiatku 90-tych rokov založili naši kamaráti zo skupín Mloci a Žobráci. Dobrý festival postupne žánrovo rozšíril ponuku folkového Festivalu dobrej hudby a v priebehu pár rokov sa stal jedným z najväčších multižánrových festivalov na Slovensku. \nUž na prvých dvoch ročníkoch sa kapely nie len z Prešova\, ale aj z celého Slovenska predstavili pred tisíckami ľudí. V roku 2010 prišlo na festival viac ako 6000 ľudí rôzneho veku\, aby si vychutnali vystúpenie legendárneho gitaristu Garyho Moora\, či ukrajinskú kapelu Haydamaky. O rok neskôr bola headlinerom kapela Skunk Anansie\, na ktorú sa prišlo pozrieť viac ako 8000 ľudí. V roku 2012 festival presunul do priestorov legendárneho prešovského amfiteátra\, ktorý bol vybudovaný v roku 1952\, aby mu po dlhých 10 rokoch zanedbávania opäť vdýchol život. Vystúpilo viac ako 50 kapiel na troch pódiách a návštevnosť narástla na viac ako 10 000 ľudí. Healinermi bol americký DnB DJ Goldie\, kozmopolitná kapela N.O.H.A a v súčasnosti najúspešnejšia slovenská kapela IMT SMILE. V roku 2013 na festivale zahrali Feak Power a ďalšia legenda DnB scény Roni Size. V roku 2014 bol headlinerom herec a spevák Steven Seagal so svojou bluesovou kapelou a anglický DnB DJ John B. Následne sa festival vrátil na prírodné kúpalisko Delňa a v roku 2017 do Prešova priniesol LP a Sepulturu. V roku 2018 sa festival kvôli rekonštrukčným prácam na Delni nekonal\, veľkolepo sa však vrátil nasledujúci rok\, keď v pozícii zahraničných headlinerov privítal francúzske duo Ofenbach\, z Austrálie prišiel legendárny Pendulum a metalový svet potešil fínsky Amorphis.
URL:https://www.rockon.sk/event/dobry-festival-2023/
CATEGORIES:Festival
ATTACH;FMTTYPE=image/jpeg:https://www.rockon.sk/wp-content/uploads/2023/03/311589294_10159557541334064_4029354035041820166_n.jpg
END:VEVENT
BEGIN:VEVENT
DTSTART;TZID=Europe/Bratislava:20230531T190000
DTEND;TZID=Europe/Bratislava:20230531T190000
DTSTAMP:20260426T055534
CREATED:20230303T131141Z
LAST-MODIFIED:20230306T182010Z
UID:330-1685559600-1685559600@www.rockon.sk
SUMMARY:FIVE FINGER DEATH PUNCH 2023
DESCRIPTION:Americká metalová skupina Five Finger Death Punch prichádza na Slovensko. Držitelia mnohých ocenení a platinových platní sa na Slovensku predstavia prvýkrát a svojim fanúšikom sľubujú skvelý hudobný zážitok. Five Finger Death Punch vystúpia už 31.05.2023 v Bratislave na Zimnom štadióne Ondreja Nepelu – TIPOS Aréna. Predaj vstupeniek začína 3.3.2023 o 10:00 v sieti Ticketportal a na VIVIEN.sk
URL:https://www.rockon.sk/event/five-finger-death-punch-2023/
CATEGORIES:Metal
ATTACH;FMTTYPE=image/jpeg:https://www.rockon.sk/wp-content/uploads/2023/03/333982894_725502989084166_2346891533010490414_n.jpg
END:VEVENT
BEGIN:VEVENT
DTSTART;TZID=Europe/Bratislava:20230415T213000
DTEND;TZID=Europe/Bratislava:20230415T213000
DTSTAMP:20260426T055534
CREATED:20230303T133151Z
LAST-MODIFIED:20230306T182033Z
UID:347-1681594200-1681594200@www.rockon.sk
SUMMARY:Slobodná Európa - Brno\, Melodka
DESCRIPTION:Budúci rok pripravuje Slobodná Európa špeciálne turné k albumu Trojka (2003)\, od ktorého vydania ubehne presne 20 rokov. Koncertný playlist bude vytvorený kompletne z celého albumu plného hitov ako Relatívny pokoj\, Realita\, Pes\, či Havran\, ale samozrejme priestor dostanú aj najväčšie hity z ostatných albumov.\nSlobodná Európa v rámci Trojka tour navštívi tieto mestá:\n24.2.2023 Vrútky\, RC Mlyn\n25.2.2023 Nové Mesto Nad Váhom\, Klub za Rampami\n3.3.2023 Trnava\, Malý Berlín\n4.3.2023 Ostrava\, Barrák\n17.3.2023 Plzeň\, Divadlo pod Lampou\n18.3.2023 Praha\, Palác Akropolis\n31.3.2023 Bratislava\, Majestic Music Club + špeciálny hosť\n14.4.2023 Zvolen\, Dom kultúry ŽSR\n15.4.2023 Brno\, Melodka
URL:https://www.rockon.sk/event/slobodna-europa-brno-melodka/
CATEGORIES:Punk
ATTACH;FMTTYPE=image/jpeg:https://www.rockon.sk/wp-content/uploads/2023/03/327357064_1268314577087018_659381063067871656_n.jpg
END:VEVENT
BEGIN:VEVENT
DTSTART;TZID=Europe/Bratislava:20230414T213000
DTEND;TZID=Europe/Bratislava:20230414T213000
DTSTAMP:20260426T055534
CREATED:20230303T132700Z
LAST-MODIFIED:20230306T182113Z
UID:342-1681507800-1681507800@www.rockon.sk
SUMMARY:Slobodná Európa - Zvolen\, Dom kultúry ŽSR
DESCRIPTION:Budúci rok pripravuje Slobodná Európa špeciálne turné k albumu Trojka (2003)\, od ktorého vydania ubehne presne 20 rokov. Koncertný playlist bude vytvorený kompletne z celého albumu plného hitov ako Relatívny pokoj\, Realita\, Pes\, či Havran\, ale samozrejme priestor dostanú aj najväčšie hity z ostatných albumov.\nSlobodná Európa v rámci Trojka tour navštívi tieto mestá:\n24.2.2023 Vrútky\, RC Mlyn\n25.2.2023 Nové Mesto Nad Váhom\, Klub za Rampami\n3.3.2023 Trnava\, Malý Berlín\n4.3.2023 Ostrava\, Barrák\n17.3.2023 Plzeň\, Divadlo pod Lampou\n18.3.2023 Praha\, Palác Akropolis\n31.3.2023 Bratislava\, Majestic Music Club + špeciálny hosť\n14.4.2023 Zvolen\, Dom kultúry ŽSR\n15.4.2023 Brno\, Melodka
URL:https://www.rockon.sk/event/slobodna-europa-zvolen-dom-kultury-zsr/
CATEGORIES:Punk
ATTACH;FMTTYPE=image/jpeg:https://www.rockon.sk/wp-content/uploads/2023/03/327357064_1268314577087018_659381063067871656_n.jpg
END:VEVENT
BEGIN:VEVENT
DTSTART;TZID=Europe/Bratislava:20230331T220000
DTEND;TZID=Europe/Bratislava:20230401T010000
DTSTAMP:20260426T055534
CREATED:20230303T131727Z
LAST-MODIFIED:20230306T182211Z
UID:336-1680300000-1680310800@www.rockon.sk
SUMMARY:Slobodná Európa - Bratislava\, Majestic Music Club
DESCRIPTION:Budúci rok pripravuje Slobodná Európa špeciálne turné k albumu Trojka (2003)\, od ktorého vydania ubehne presne 20 rokov. Koncertný playlist bude vytvorený kompletne z celého albumu plného hitov ako Relatívny pokoj\, Realita\, Pes\, či Havran\, ale samozrejme priestor dostanú aj najväčšie hity z ostatných albumov.\nSlobodná Európa v rámci Trojka tour navštívi tieto mestá:\n24.2.2023 Vrútky\, RC Mlyn\n25.2.2023 Nové Mesto Nad Váhom\, Klub za Rampami\n3.3.2023 Trnava\, Malý Berlín\n4.3.2023 Ostrava\, Barrák\n17.3.2023 Plzeň\, Divadlo pod Lampou\n18.3.2023 Praha\, Palác Akropolis\n31.3.2023 Bratislava\, Majestic Music Club + špeciálny hosť\n14.4.2023 Zvolen\, Dom kultúry ŽSR\n15.4.2023 Brno\, Melodka
URL:https://www.rockon.sk/event/slobodna-europa-bratislava-majestic-music-club/
CATEGORIES:Punk
ATTACH;FMTTYPE=image/jpeg:https://www.rockon.sk/wp-content/uploads/2023/03/326976633_5821455601268842_8271086004591475012_n.jpg
END:VEVENT
BEGIN:VEVENT
DTSTART;TZID=Europe/Bratislava:20230325T180000
DTEND;TZID=Europe/Bratislava:20230325T180000
DTSTAMP:20260426T055534
CREATED:20230303T132259Z
LAST-MODIFIED:20230306T182233Z
UID:339-1679767200-1679767200@www.rockon.sk
SUMMARY:LUCIE - ŠKWOR - MICHAL PENK
DESCRIPTION:Do metropoly východu KOŠICE prinášame pre milovníkov hudby jedinečné podujatie v podobe chronologického prierezu ČESKOU rockovou hudobnou scénou od 90 rokov až po súčasnosť. \nVeď posúďte sami čo Vás behom koncertu\, ktorý bude mať vyše troch hodín čistého hracieho času: \nMICHAL PENK – ČESKOSLOVENSKÁ LEGENDA\, ktorá zažila vrchol aj pád a po 27. rokoch sa vracia na hudobné dosky\, aby si získal vašu priazeň. Jeho hity sú už tak nostalgické\, že zľudoveli a patria do našich životov Odpusťte nám\, O bláznech\, Stín\, alebo hudba k seriálu Chlapci a chlapi – Má Daleká \nŠKWOR – fenomén súčasnej Českej hudobnej scény\, ktorý za tri roky nabral úžasný vietor do plachiet a posunul sa na špičku záujmu aj návštevnosti u našich susedov Čechov\, ale musíme podotknúť aj to\, že na Slovensku má stále viac priaznivcov a čoraz väčší záujem o ich tvorbu. Ich piesne sú silné a majú svoje jadro a význam. Ak ich ešte nepoznáte tak si vypočujte napríklad Síla starejch vín\, Milionu hvězd se ptáš\, Mý slzy neuvidíš\, Pokřivenej pohled a príďte si ich potom vypočuť naživo a my Vám garantujeme\, že odídete z koncertu milo prekvapený. Skupina Škwor v roku 2022 odohrala úžasné koncerty na festivale TOPFEST alebo na Staromestských Slávnostiach v Žiline. \nLUCIE – stálica ČESKOSLOVENSKEJ rockovej hudby\, ktorá časom zreje k dokonalosti a to vidieť aj cítiť na ich živom prejave. Hity\, ktoré za desiatky rokov vytvorili zostanú hrubým písmom zapísané v historických spomienkach. Ich perfekcionalita a dôraz na kvalitu sa vždy prejavia aj na ich koncertoch  v podobe hudobnej\, technickej a vizuálnej výpravy. Nemusíme asi moc pripomínať ich hudobnú tvorbu ale určite sa nedá nespomenúť hity ako LUCIE\, Chci zas v tobe spát\, Šrouby do hlavy\, Dotknu se ohně\, Amerika. \nJedinečnosť koncertu bude aj vo vizuálnych a hudobných efektoch a techniky. \nRaz vidieť je viac ako stokrát napísať\, preto Vás pozývame na toto jedinečne podujatie.
URL:https://www.rockon.sk/event/lucie-skwor-michal-penk/
CATEGORIES:Rock
ATTACH;FMTTYPE=image/jpeg:https://www.rockon.sk/wp-content/uploads/2023/03/hd.jpg
END:VEVENT
BEGIN:VEVENT
DTSTART;TZID=Europe/Bratislava:20230303T080000
DTEND;TZID=Europe/Bratislava:20230303T170000
DTSTAMP:20260426T055534
CREATED:20230303T130502Z
LAST-MODIFIED:20230306T182251Z
UID:327-1677830400-1677862800@www.rockon.sk
SUMMARY:Ostrava v plamenech
DESCRIPTION:✭ KISSIN´ DYNAMITE ✭  SEPTICFLESH ✭ FIREWIND  ✭\n✭ XIII. STOLETÍ ✭ SEBASTIEN ✭ ŠKAREDÁ HOLKA ✭ PHENOMY ✭\n✭ IZNUTRI ✭ LAUTR ✭ ČERNÁ ✭ GODIVA ✭ HOT BLOODY SUNDAY ✭
URL:https://www.rockon.sk/event/ostrava-v-plamenech/
CATEGORIES:Festival,Metal
ATTACH;FMTTYPE=image/jpeg:https://www.rockon.sk/wp-content/uploads/2023/03/318243845_843350463729496_458783177640252144_n-scaled.jpg
END:VEVENT
END:VCALENDAR