BEGIN:VCALENDAR
VERSION:2.0
PRODID:-//Rock ON - ECPv6.15.20//NONSGML v1.0//EN
CALSCALE:GREGORIAN
METHOD:PUBLISH
X-WR-CALNAME:Rock ON
X-ORIGINAL-URL:https://www.rockon.sk
X-WR-CALDESC:Udalosti pre Rock ON
REFRESH-INTERVAL;VALUE=DURATION:PT1H
X-Robots-Tag:noindex
X-PUBLISHED-TTL:PT1H
BEGIN:VTIMEZONE
TZID:Europe/Bratislava
BEGIN:DAYLIGHT
TZOFFSETFROM:+0100
TZOFFSETTO:+0200
TZNAME:CEST
DTSTART:20250330T010000
END:DAYLIGHT
BEGIN:STANDARD
TZOFFSETFROM:+0200
TZOFFSETTO:+0100
TZNAME:CET
DTSTART:20251026T010000
END:STANDARD
BEGIN:DAYLIGHT
TZOFFSETFROM:+0100
TZOFFSETTO:+0200
TZNAME:CEST
DTSTART:20260329T010000
END:DAYLIGHT
BEGIN:STANDARD
TZOFFSETFROM:+0200
TZOFFSETTO:+0100
TZNAME:CET
DTSTART:20261025T010000
END:STANDARD
BEGIN:DAYLIGHT
TZOFFSETFROM:+0100
TZOFFSETTO:+0200
TZNAME:CEST
DTSTART:20270328T010000
END:DAYLIGHT
BEGIN:STANDARD
TZOFFSETFROM:+0200
TZOFFSETTO:+0100
TZNAME:CET
DTSTART:20271031T010000
END:STANDARD
END:VTIMEZONE
BEGIN:VEVENT
DTSTART;VALUE=DATE:20260717
DTEND;VALUE=DATE:20260719
DTSTAMP:20260426T063439
CREATED:20251029T111508Z
LAST-MODIFIED:20251029T111508Z
UID:6454-1784246400-1784419199@www.rockon.sk
SUMMARY:BURN FEST OPEN AIR 2026
DESCRIPTION:
URL:https://www.rockon.sk/event/burn-fest-open-air-2026/
LOCATION:Camping Sereď
END:VEVENT
BEGIN:VEVENT
DTSTART;TZID=Europe/Bratislava:20261127T190000
DTEND;TZID=Europe/Bratislava:20261127T210000
DTSTAMP:20260426T063439
CREATED:20260122T102657Z
LAST-MODIFIED:20260123T103831Z
UID:7054-1795806000-1795813200@www.rockon.sk
SUMMARY:LADY COLORS ROCK ORCHESTRA - STARS auditorium\, Bratislava
DESCRIPTION:ROCK ORCHESTRA SHOW \nnajväčšie rockové hity spojené s klasikou \nTRI FAMÓZNE HLASY vs. NEČAKANÉ a UNIKÁTNE ARANŽMÁNY \norchester\, hviezdna rocková kapela\, strhujúca tanečná show \nHARMÓNIA HLASOV\, DISHARMÓNIA VLASOV = LeRa\, Kristy\, Majka \nLeRa Lenka Rakár\, Kristína Mečko a Mária Lechmanová – tri známe speváčky z popredných slovenských muzikálov\, filmov\, divadiel a televíznych projektov\, tvoria spevácku skupinu\, ktorá po prvýkrát vystúpi v špeciálnom koncertnom programe s rockovou kapelou\, orchestrom a tanečníkmi. \n\noriginálne aranžmány najznámejších svetových a slovenských hitov v dychberúcom umeleckom prevedení\,\nrocková kapela zložená z jedných z najlepších slovenských hudobníkov\,\nprofesionálny orchester\, ktorý dopĺňa rockové pesničky nielen očakávanými aranžmánmi\, ale aj prepracovanou klasikou = unikátny koncept pre milovníkov hudby rôznych žánrov\ntri fantastické hlasy s ohromným rozsahom\, zaujímavými farbami a dokonalou harmóniou\nprepracované tanečné choreografie tanečných majstrov a špičkových choreografov\nštýlové kostýmy od popredných slovenských dizajnérov\núžasná scénografia\, svetelná show a LED obrazovky pre čo najlepší zážitok všetkých hostí\nšpeciálni hostia\, nečakané spolupráce a mnoho prekvapení\n\nAk chcete stráviť večer s vysokou umeleckou úrovňou\, silnou emóciou a precíznym živým prevedením\, tento koncert je určený práve vám. \nPredaj vstupeniek je spustený – zabezpečte si svoje miesto včas. Kapacita je limitovaná a zážitok neopakovateľný
URL:https://www.rockon.sk/event/lady-colors-rock-orchestra/
CATEGORIES:Koncert
ATTACH;FMTTYPE=image/webp:https://www.rockon.sk/wp-content/uploads/2026/01/Koncert_rock-orchestra_new_datum-01-1.webp
END:VEVENT
END:VCALENDAR