BEGIN:VCALENDAR
VERSION:2.0
PRODID:-//Rock ON - ECPv6.15.20//NONSGML v1.0//EN
CALSCALE:GREGORIAN
METHOD:PUBLISH
X-WR-CALNAME:Rock ON
X-ORIGINAL-URL:https://www.rockon.sk
X-WR-CALDESC:Udalosti pre Rock ON
REFRESH-INTERVAL;VALUE=DURATION:PT1H
X-Robots-Tag:noindex
X-PUBLISHED-TTL:PT1H
BEGIN:VTIMEZONE
TZID:Europe/Bratislava
BEGIN:DAYLIGHT
TZOFFSETFROM:+0100
TZOFFSETTO:+0200
TZNAME:CEST
DTSTART:20250330T010000
END:DAYLIGHT
BEGIN:STANDARD
TZOFFSETFROM:+0200
TZOFFSETTO:+0100
TZNAME:CET
DTSTART:20251026T010000
END:STANDARD
BEGIN:DAYLIGHT
TZOFFSETFROM:+0100
TZOFFSETTO:+0200
TZNAME:CEST
DTSTART:20260329T010000
END:DAYLIGHT
BEGIN:STANDARD
TZOFFSETFROM:+0200
TZOFFSETTO:+0100
TZNAME:CET
DTSTART:20261025T010000
END:STANDARD
BEGIN:DAYLIGHT
TZOFFSETFROM:+0100
TZOFFSETTO:+0200
TZNAME:CEST
DTSTART:20270328T010000
END:DAYLIGHT
BEGIN:STANDARD
TZOFFSETFROM:+0200
TZOFFSETTO:+0100
TZNAME:CET
DTSTART:20271031T010000
END:STANDARD
END:VTIMEZONE
BEGIN:VEVENT
DTSTART;TZID=Europe/Bratislava:20260503T190000
DTEND;TZID=Europe/Bratislava:20260503T230000
DTSTAMP:20260425T180939
CREATED:20260123T091317Z
LAST-MODIFIED:20260123T103620Z
UID:7087-1777834800-1777849200@www.rockon.sk
SUMMARY:The Aristocrats / Guthrie Govan - Palác Akropolis Praha
DESCRIPTION:Za posledných 12 rokov sa The Aristocrats – gitarista Guthrie Govan (Steven Wilson\, Hans Zimmer\, Asia/GPS)\, basgitarista Bryan Beller (Joe Satriani\, Steve Vai\, Dethklok) a bubeník Marco Minnemann (Steven Wilson\, Joe Satriani\, Steve Hackett) – etablovali ako jedna z najoriginálnejších\, najsviežejších a najzábavnejších inštrumentálnych rock-fusion kapiel na svete. Každý\, kto bol svedkom ich živého hudobného vystúpenia\, pri ktorom sa spontánne strieda rock\, jazz\, pop\, metal\, country a čokoľvek medzi tým\, cíti ducha skutočnej kapely\, ktorej improvizačná duša umožňuje\, aby sa na pódiu v každom okamihu stalo čokoľvek… vrátane občasného žmurknutia a prikývnutia publiku pod vplyvom Franka Zappu.\n\nRozruch z údajne jednorazového debutového vystúpenia na výstave NAMM v Anaheime v roku 2011 viedol k vydaniu debutového albumu The Aristocrats. Album (2011)\, ktorý bol nahraný len za osem dní\, bol v popredných hudobných publikáciách po celom svete okamžite označený za klasiku a objavil sa v mnohých rebríčkoch desiatich najlepších albumov roka. The Aristocrats potom v nasledujúcom desaťročí nahrali ďalšie tri kritikou oceňované štúdiové albumy\, z ktorých dva sa dostali do Top 10 jazzovej hitparády Billboardu.\n(Jazz? Dobre\, iste…) Po štyroch svetových turné a troch živých albumoch je kapela známa na piatich kontinentoch ako skutočný hudobný zážitok. Uprostred prestávky spôsobenej pandemickým lockdownom kapela vytvorila svoje piate a doteraz najambicióznejšie štúdiové dielo – koncepčný album. Duck (Káčer) je príbehom pavúčieho domorodca z antarktického ostrova\, ktorý uniká pred tučniakom policajtom až do New Yorku… kde na neho čakajú nemalé nešťastia a nebezpečenstvá. Nový album vyšiel 16. februára 2024\, čo sa zhodovalo s turné „Duckling“\, sériou piatich vybraných koncertov na západnom pobreží USA pri príležitosti tejto udalosti. Duck posúva kolektívne umenie The Aristocrats na úplne novú\, ohromujúcu – hoci absurdnú – úroveň.
URL:https://www.rockon.sk/event/the-aristocrats-guthrie-govan-palac-akropolis/
CATEGORIES:Koncert,Rock
END:VEVENT
BEGIN:VEVENT
DTSTART;TZID=Europe/Bratislava:20260504T190000
DTEND;TZID=Europe/Bratislava:20260504T220000
DTSTAMP:20260425T180939
CREATED:20260210T170234Z
LAST-MODIFIED:20260210T171253Z
UID:7544-1777921200-1777932000@www.rockon.sk
SUMMARY:ERIC CLAPTON - O2 aréna PRAHA 4.05.2026
DESCRIPTION:Eric Clapton ohlásil európske turné na rok 2026 a špeciálnu reedíciu albumu Journeyman\nLegendárny britský hudobník Eric Clapton dnes potešil milióny fanúšikov. Oficiálne oznámil sériu európskych koncertov na rok 2026\, v rámci ktorých nevynechá ani našich susedov. Koncertná šnúra zasiahne Poľsko\, Českú republiku a Maďarsko\, čím ukončila mesiace špekulácií o tom\, či sa „Slowhand“ ešte niekedy vráti na pódiá. Okrem koncertných termínov prinieslo vydavateľstvo Bushbranch/Surfdog Records ďalšiu skvelú správu. Pri príležitosti výročia vyjde remasterovaná špeciálna edícia ikonického albumu z roku 1989 – Journeyman: Deluxe Edition. Názov albumu Journeyman (tovariš/remeselník) dokonale vystihuje Claptonovu životnú filozofiu. „Tento názov ma definuje; rád si o sebe myslím\, že som remeselník. Neustále pracujem na zdokonaľovaní svojho umenia\,“ uviedol Clapton k reedícii. Držiteľ 18 cien Grammy formoval dejiny rocku a blues už od roku 1963 v kapelách ako The Yardbirds\, John Mayall & the Bluesbreakers či legendárnych Cream. Ako sólový umelec má na konte 22 štúdiových albumov vrátane minuloročnej novinky Meanwhile\, na ktorej spolupracoval s Van Morrisonom či zosnulým Jeffom Beckom.\n\nNávrat do Prahy\nPre slovenských fanúšikov bude kľúčovou zastávkou najmä Praha\, kde Clapton vystúpil doteraz trikrát. Naposledy v roku 2022 dojal vypredanú halu skladbou Tears in Heaven. Očakáva sa\, že setlist pre rok 2026 bude opäť nabitý klasikami ako Layla\, Cocaine či Crossroads.\nSen sa stal skutočnosťou – svetová gitarová extratrieda mieri opäť do strednej Európy.
URL:https://www.rockon.sk/event/eric-clapton-o2-arena-praha-4-05-2026/
END:VEVENT
BEGIN:VEVENT
DTSTART;VALUE=DATE:20260625
DTEND;VALUE=DATE:20260628
DTSTAMP:20260425T180939
CREATED:20251118T123103Z
LAST-MODIFIED:20251118T123103Z
UID:6747-1782345600-1782604799@www.rockon.sk
SUMMARY:ROCK POD KAMEŇOM
DESCRIPTION:
URL:https://www.rockon.sk/event/rock-pod-kamenom-2/
CATEGORIES:Festival
END:VEVENT
BEGIN:VEVENT
DTSTART;VALUE=DATE:20260717
DTEND;VALUE=DATE:20260719
DTSTAMP:20260425T180939
CREATED:20251029T111508Z
LAST-MODIFIED:20251029T111508Z
UID:6454-1784246400-1784419199@www.rockon.sk
SUMMARY:BURN FEST OPEN AIR 2026
DESCRIPTION:
URL:https://www.rockon.sk/event/burn-fest-open-air-2026/
LOCATION:Camping Sereď
END:VEVENT
BEGIN:VEVENT
DTSTART;TZID=Europe/Bratislava:20261127T190000
DTEND;TZID=Europe/Bratislava:20261127T210000
DTSTAMP:20260425T180939
CREATED:20260122T102657Z
LAST-MODIFIED:20260123T103831Z
UID:7054-1795806000-1795813200@www.rockon.sk
SUMMARY:LADY COLORS ROCK ORCHESTRA - STARS auditorium\, Bratislava
DESCRIPTION:ROCK ORCHESTRA SHOW \nnajväčšie rockové hity spojené s klasikou \nTRI FAMÓZNE HLASY vs. NEČAKANÉ a UNIKÁTNE ARANŽMÁNY \norchester\, hviezdna rocková kapela\, strhujúca tanečná show \nHARMÓNIA HLASOV\, DISHARMÓNIA VLASOV = LeRa\, Kristy\, Majka \nLeRa Lenka Rakár\, Kristína Mečko a Mária Lechmanová – tri známe speváčky z popredných slovenských muzikálov\, filmov\, divadiel a televíznych projektov\, tvoria spevácku skupinu\, ktorá po prvýkrát vystúpi v špeciálnom koncertnom programe s rockovou kapelou\, orchestrom a tanečníkmi. \n\noriginálne aranžmány najznámejších svetových a slovenských hitov v dychberúcom umeleckom prevedení\,\nrocková kapela zložená z jedných z najlepších slovenských hudobníkov\,\nprofesionálny orchester\, ktorý dopĺňa rockové pesničky nielen očakávanými aranžmánmi\, ale aj prepracovanou klasikou = unikátny koncept pre milovníkov hudby rôznych žánrov\ntri fantastické hlasy s ohromným rozsahom\, zaujímavými farbami a dokonalou harmóniou\nprepracované tanečné choreografie tanečných majstrov a špičkových choreografov\nštýlové kostýmy od popredných slovenských dizajnérov\núžasná scénografia\, svetelná show a LED obrazovky pre čo najlepší zážitok všetkých hostí\nšpeciálni hostia\, nečakané spolupráce a mnoho prekvapení\n\nAk chcete stráviť večer s vysokou umeleckou úrovňou\, silnou emóciou a precíznym živým prevedením\, tento koncert je určený práve vám. \nPredaj vstupeniek je spustený – zabezpečte si svoje miesto včas. Kapacita je limitovaná a zážitok neopakovateľný
URL:https://www.rockon.sk/event/lady-colors-rock-orchestra/
CATEGORIES:Koncert
ATTACH;FMTTYPE=image/webp:https://www.rockon.sk/wp-content/uploads/2026/01/Koncert_rock-orchestra_new_datum-01-1.webp
END:VEVENT
END:VCALENDAR