BEGIN:VCALENDAR
VERSION:2.0
PRODID:-//Rock ON - ECPv6.15.20//NONSGML v1.0//EN
CALSCALE:GREGORIAN
METHOD:PUBLISH
X-WR-CALNAME:Rock ON
X-ORIGINAL-URL:https://www.rockon.sk
X-WR-CALDESC:Udalosti pre Rock ON
REFRESH-INTERVAL;VALUE=DURATION:PT1H
X-Robots-Tag:noindex
X-PUBLISHED-TTL:PT1H
BEGIN:VTIMEZONE
TZID:Europe/Bratislava
BEGIN:DAYLIGHT
TZOFFSETFROM:+0100
TZOFFSETTO:+0200
TZNAME:CEST
DTSTART:20220327T010000
END:DAYLIGHT
BEGIN:STANDARD
TZOFFSETFROM:+0200
TZOFFSETTO:+0100
TZNAME:CET
DTSTART:20221030T010000
END:STANDARD
BEGIN:DAYLIGHT
TZOFFSETFROM:+0100
TZOFFSETTO:+0200
TZNAME:CEST
DTSTART:20230326T010000
END:DAYLIGHT
BEGIN:STANDARD
TZOFFSETFROM:+0200
TZOFFSETTO:+0100
TZNAME:CET
DTSTART:20231029T010000
END:STANDARD
BEGIN:DAYLIGHT
TZOFFSETFROM:+0100
TZOFFSETTO:+0200
TZNAME:CEST
DTSTART:20240331T010000
END:DAYLIGHT
BEGIN:STANDARD
TZOFFSETFROM:+0200
TZOFFSETTO:+0100
TZNAME:CET
DTSTART:20241027T010000
END:STANDARD
BEGIN:DAYLIGHT
TZOFFSETFROM:+0100
TZOFFSETTO:+0200
TZNAME:CEST
DTSTART:20250330T010000
END:DAYLIGHT
BEGIN:STANDARD
TZOFFSETFROM:+0200
TZOFFSETTO:+0100
TZNAME:CET
DTSTART:20251026T010000
END:STANDARD
BEGIN:DAYLIGHT
TZOFFSETFROM:+0100
TZOFFSETTO:+0200
TZNAME:CEST
DTSTART:20260329T010000
END:DAYLIGHT
BEGIN:STANDARD
TZOFFSETFROM:+0200
TZOFFSETTO:+0100
TZNAME:CET
DTSTART:20261025T010000
END:STANDARD
END:VTIMEZONE
BEGIN:VEVENT
DTSTART;VALUE=DATE:20251121
DTEND;VALUE=DATE:20251122
DTSTAMP:20260426T052018
CREATED:20251118T122746Z
LAST-MODIFIED:20251118T122746Z
UID:6744-1763683200-1763769599@www.rockon.sk
SUMMARY:KRUTO FEST
DESCRIPTION:
URL:https://www.rockon.sk/event/kruto-fest/
LOCATION:Vrútky
CATEGORIES:Festival
END:VEVENT
BEGIN:VEVENT
DTSTART;VALUE=DATE:20251111
DTEND;VALUE=DATE:20251112
DTSTAMP:20260426T052018
CREATED:20251029T101507Z
LAST-MODIFIED:20251029T101507Z
UID:6450-1762819200-1762905599@www.rockon.sk
SUMMARY:EFARMOSA
DESCRIPTION:
URL:https://www.rockon.sk/event/efarmosa/
LOCATION:MAJESTIC MUSIC CLUB\, Bratislava\, Slovenská republika
END:VEVENT
BEGIN:VEVENT
DTSTART;VALUE=DATE:20251107
DTEND;VALUE=DATE:20251109
DTSTAMP:20260426T052018
CREATED:20250826T091128Z
LAST-MODIFIED:20250826T091128Z
UID:6071-1762473600-1762646399@www.rockon.sk
SUMMARY:BONFIRE
DESCRIPTION:
URL:https://www.rockon.sk/event/bonfire/
END:VEVENT
BEGIN:VEVENT
DTSTART;TZID=Europe/Bratislava:20251031T080000
DTEND;TZID=Europe/Bratislava:20251031T170000
DTSTAMP:20260426T052018
CREATED:20251029T111352Z
LAST-MODIFIED:20251029T111352Z
UID:6452-1761897600-1761930000@www.rockon.sk
SUMMARY:HALLOWEEN ROCK SHOW
DESCRIPTION:
URL:https://www.rockon.sk/event/halloween-rock-show/
LOCATION:Randal club\, Bratislava\, Slovenská republika
END:VEVENT
BEGIN:VEVENT
DTSTART;TZID=Europe/Bratislava:20251002T080000
DTEND;TZID=Europe/Bratislava:20251002T170000
DTSTAMP:20260426T052018
CREATED:20250826T091100Z
LAST-MODIFIED:20250826T091100Z
UID:6069-1759392000-1759424400@www.rockon.sk
SUMMARY:TRAKTOR JOUNGLE TOUR
DESCRIPTION:
URL:https://www.rockon.sk/event/traktor-joungle-tour/
END:VEVENT
BEGIN:VEVENT
DTSTART;VALUE=DATE:20250913
DTEND;VALUE=DATE:20250914
DTSTAMP:20260426T052018
CREATED:20250826T090946Z
LAST-MODIFIED:20250826T091023Z
UID:6066-1757721600-1757807999@www.rockon.sk
SUMMARY:SPIŠ ROCK FEST
DESCRIPTION:
URL:https://www.rockon.sk/event/srf-v-chyzi/
END:VEVENT
BEGIN:VEVENT
DTSTART;VALUE=DATE:20250912
DTEND;VALUE=DATE:20250913
DTSTAMP:20260426T052018
CREATED:20250826T091226Z
LAST-MODIFIED:20250826T091226Z
UID:6073-1757635200-1757721599@www.rockon.sk
SUMMARY:SRF V CHYŽI
DESCRIPTION:
URL:https://www.rockon.sk/event/srf-v-chyzi-2/
END:VEVENT
BEGIN:VEVENT
DTSTART;VALUE=DATE:20250829
DTEND;VALUE=DATE:20250905
DTSTAMP:20260426T052018
CREATED:20250826T090918Z
LAST-MODIFIED:20250826T090918Z
UID:6064-1756425600-1757030399@www.rockon.sk
SUMMARY:FESTIVAL LABYRINT
DESCRIPTION:
URL:https://www.rockon.sk/event/festival-labyrint/
END:VEVENT
BEGIN:VEVENT
DTSTART;VALUE=DATE:20250828
DTEND;VALUE=DATE:20250829
DTSTAMP:20260426T052018
CREATED:20250826T090834Z
LAST-MODIFIED:20250826T090834Z
UID:6062-1756339200-1756425599@www.rockon.sk
SUMMARY:FESTIVAL SLÍŽOVCA
DESCRIPTION:
URL:https://www.rockon.sk/event/festival-slizovca/
END:VEVENT
BEGIN:VEVENT
DTSTART;VALUE=DATE:20250815
DTEND;VALUE=DATE:20250817
DTSTAMP:20260426T052018
CREATED:20250716T183251Z
LAST-MODIFIED:20250716T183251Z
UID:5974-1755216000-1755388799@www.rockon.sk
SUMMARY:HODY TREBATICE
DESCRIPTION:
URL:https://www.rockon.sk/event/hody-trebatice-2/
END:VEVENT
BEGIN:VEVENT
DTSTART;VALUE=DATE:20250802
DTEND;VALUE=DATE:20250803
DTSTAMP:20260426T052018
CREATED:20250716T183222Z
LAST-MODIFIED:20250716T183222Z
UID:5972-1754092800-1754179199@www.rockon.sk
SUMMARY:ORAVA ALTERNATIVE
DESCRIPTION:
URL:https://www.rockon.sk/event/orava-alternative/
END:VEVENT
BEGIN:VEVENT
DTSTART;VALUE=DATE:20250717
DTEND;VALUE=DATE:20250720
DTSTAMP:20260426T052018
CREATED:20250716T183047Z
LAST-MODIFIED:20250716T183047Z
UID:5968-1752710400-1752969599@www.rockon.sk
SUMMARY:CIBULA FEST
DESCRIPTION:
URL:https://www.rockon.sk/event/cibula-fest/
END:VEVENT
BEGIN:VEVENT
DTSTART;VALUE=DATE:20250717
DTEND;VALUE=DATE:20250719
DTSTAMP:20260426T052018
CREATED:20250716T183155Z
LAST-MODIFIED:20250716T183155Z
UID:5970-1752710400-1752883199@www.rockon.sk
SUMMARY:BURN OPEN AIR FEST
DESCRIPTION:
URL:https://www.rockon.sk/event/burn-open-air-fest/
END:VEVENT
BEGIN:VEVENT
DTSTART;VALUE=DATE:20250712
DTEND;VALUE=DATE:20250713
DTSTAMP:20260426T052018
CREATED:20250225T121343Z
LAST-MODIFIED:20250225T121343Z
UID:4998-1752278400-1752364799@www.rockon.sk
SUMMARY:ANIMA FEST
DESCRIPTION:
URL:https://www.rockon.sk/event/anima-fest/
CATEGORIES:Metal
ATTACH;FMTTYPE=image/jpeg:https://www.rockon.sk/wp-content/uploads/2025/02/AF3-logo-poster-A3.jpg
END:VEVENT
BEGIN:VEVENT
DTSTART;TZID=Europe/Bratislava:20250627T150000
DTEND;TZID=Europe/Bratislava:20250628T233000
DTSTAMP:20260426T052018
CREATED:20241202T100220Z
LAST-MODIFIED:20241202T100220Z
UID:4783-1751036400-1751153400@www.rockon.sk
SUMMARY:BARIS ROCK fest
DESCRIPTION:
URL:https://www.rockon.sk/event/baris-rock-fest/
END:VEVENT
BEGIN:VEVENT
DTSTART;TZID=Europe/Bratislava:20250620T080000
DTEND;TZID=Europe/Bratislava:20250621T233000
DTSTAMP:20260426T052018
CREATED:20250217T135332Z
LAST-MODIFIED:20250217T135332Z
UID:4903-1750406400-1750548600@www.rockon.sk
SUMMARY:Truck Country – Zelená Voda
DESCRIPTION:
URL:https://www.rockon.sk/event/bohaty-hudobny-program-truckeri-august-2025/
CATEGORIES:Festival
ATTACH;FMTTYPE=image/jpeg:https://www.rockon.sk/wp-content/uploads/2025/02/tc25_kapely.jpg
END:VEVENT
BEGIN:VEVENT
DTSTART;TZID=Europe/Bratislava:20250221T194500
DTEND;TZID=Europe/Bratislava:20250221T235900
DTSTAMP:20260426T052018
CREATED:20250218T104440Z
LAST-MODIFIED:20250218T104619Z
UID:4948-1740167100-1740182340@www.rockon.sk
SUMMARY:MOONFEST
DESCRIPTION:
URL:https://www.rockon.sk/event/moonfest-nitra-modern-age-dying-sinners-moon-maesun/
CATEGORIES:Festival
ATTACH;FMTTYPE=image/jpeg:https://www.rockon.sk/wp-content/uploads/2025/02/moon-fest.jpg
END:VEVENT
BEGIN:VEVENT
DTSTART;TZID=Europe/Bratislava:20241213T180000
DTEND;TZID=Europe/Bratislava:20241213T230000
DTSTAMP:20260426T052018
CREATED:20241202T100110Z
LAST-MODIFIED:20241202T100110Z
UID:4781-1734112800-1734130800@www.rockon.sk
SUMMARY:Darujme Vianoce - Dolný Kubín
DESCRIPTION:
URL:https://www.rockon.sk/event/darujme-vianoce-dolny-kubin/
END:VEVENT
BEGIN:VEVENT
DTSTART;VALUE=DATE:20240627
DTEND;VALUE=DATE:20240701
DTSTAMP:20260426T052018
CREATED:20240405T094202Z
LAST-MODIFIED:20240405T094202Z
UID:4496-1719446400-1719791999@www.rockon.sk
SUMMARY:ROCK POD KAMEŇOM
DESCRIPTION:Prestaňte len snívať a zažite skutočnú hudobnú oslavu! \nPrivítajte ROCK POD KAMEŇOM – festival\, ktorý zlomí všetky hudobné reťaze a vystrelí vaše emócie do neba. od 27. do 30. júna 2024 sa Sninské rybníky stanú centrom všetkého\, čo máte radi – energie\, vášne a hudby. Už pri príchode vás očarí atmosféra\, akoby z inej dimenzie\, s jemným vánkom\, ktorý prináša sľub dobrodružstva. Ak si želáte oddychovať počas festivalových prestávok\, čaká na vás prekrásna okolitá príroda\, ktorá je ako stvorená na relax. Zelené stromy vytvárajúce chladivú oázu vám poskytnú útočisko pred slnkom. \nNoc v blízkych hoteloch a chatkách bude ako sen\, ktorý sa stane skutočnosťou\, alebo si vyberte dobrodružstvo pod hviezdami\, aké ste ešte nikdy nezažili v autocampingu. Nechajte sa hýčkať všetkými možnosťami\, ktoré festival ROCK POD KAMEŇOM ponúka\, a nezabudnite ochutnať špeciality z miestnych stánkov\, ktoré vám doprajú pôžitok pre vaše chuťové poháriky. \nNechte sa strhnúť vlnou skvelej hudby a pripravte sa na zázrak\, ktorý zanechá vaše srdce vo výbušnom rytme. ROCK POD KAMEŇOM je nezabudnuteľným zážitkom\, ktorý stojí za to. Vstúpte do tohto sveta hudobnej extázy a získajte svoje vstupenky už dnes!
URL:https://www.rockon.sk/event/rock-pod-kamenom/
CATEGORIES:Festival
ATTACH;FMTTYPE=image/jpeg:https://www.rockon.sk/wp-content/uploads/2024/04/400828323_877795687044660_8856481537109028969_n.jpg
END:VEVENT
BEGIN:VEVENT
DTSTART;VALUE=DATE:20240427
DTEND;VALUE=DATE:20240428
DTSTAMP:20260426T052018
CREATED:20240126T184914Z
LAST-MODIFIED:20240126T184914Z
UID:4232-1714176000-1714262399@www.rockon.sk
SUMMARY:Punkový velikonoce
DESCRIPTION:
URL:https://www.rockon.sk/event/punkovy-velikonoce/
LOCATION:Country club Lucie\, Hradec Králové\, Česká republika
CATEGORIES:Punk
END:VEVENT
BEGIN:VEVENT
DTSTART;TZID=Europe/Bratislava:20240412T200000
DTEND;TZID=Europe/Bratislava:20240412T230000
DTSTAMP:20260426T052018
CREATED:20240405T093739Z
LAST-MODIFIED:20240405T093739Z
UID:4493-1712952000-1712962800@www.rockon.sk
SUMMARY:Mirai koncert Nitra PKONitra
DESCRIPTION:MIRAI  je v súčasnosti najpopulárnejšia česká kapela a je skvelé\, že  sa rozhodla opäť potešiť aj nás na Slovensku. Vypredané halové turné\, obrovský úspech v O2 arénach\, neopísatelná energia\, nové single\, prekvapenia a ešte mnoho ďalšieho\, to všetko čaká fanúšikov v Bratislave\, Trenčíne\, Žiline\, Košiciach a Nitre s názvom sLOVEnsko túr.
URL:https://www.rockon.sk/event/mirai-koncert-nitra-pko/
LOCATION:Nitra PKO
CATEGORIES:Koncert
ATTACH;FMTTYPE=image/jpeg:https://www.rockon.sk/wp-content/uploads/2024/03/mirai-slovensketour-2024.jpg
END:VEVENT
BEGIN:VEVENT
DTSTART;TZID=Europe/Bratislava:20240411T200000
DTEND;TZID=Europe/Bratislava:20240411T230000
DTSTAMP:20260426T052018
CREATED:20240405T093503Z
LAST-MODIFIED:20240405T093503Z
UID:4490-1712865600-1712876400@www.rockon.sk
SUMMARY:Mirai koncert Košice Kultúr park
DESCRIPTION:MIRAI  je v súčasnosti najpopulárnejšia česká kapela a je skvelé\, že  sa rozhodla opäť potešiť aj nás na Slovensku. Vypredané halové turné\, obrovský úspech v O2 arénach\, neopísatelná energia\, nové single\, prekvapenia a ešte mnoho ďalšieho\, to všetko čaká fanúšikov v Bratislave\, Trenčíne\, Žiline\, Košiciach a Nitre s názvom sLOVEnsko túr.
URL:https://www.rockon.sk/event/mirai-koncert-kosice-kultur-park/
LOCATION:Košice Kultur park
CATEGORIES:Koncert
ATTACH;FMTTYPE=image/jpeg:https://www.rockon.sk/wp-content/uploads/2024/03/mirai-slovensketour-2024.jpg
END:VEVENT
BEGIN:VEVENT
DTSTART;TZID=Europe/Bratislava:20240406T200000
DTEND;TZID=Europe/Bratislava:20240406T230000
DTSTAMP:20260426T052018
CREATED:20240405T091211Z
LAST-MODIFIED:20240405T091211Z
UID:4487-1712433600-1712444400@www.rockon.sk
SUMMARY:Mirai koncert Žilina Dom odborov
DESCRIPTION:MIRAI  je v súčasnosti najpopulárnejšia česká kapela a je skvelé\, že  sa rozhodla opäť potešiť aj nás na Slovensku. Vypredané halové turné\, obrovský úspech v O2 arénach\, neopísatelná energia\, nové single\, prekvapenia a ešte mnoho ďalšieho\, to všetko čaká fanúšikov v Bratislave\, Trenčíne\, Žiline\, Košiciach a Nitre s názvom sLOVEnsko túr.
URL:https://www.rockon.sk/event/mirai-koncert-zilina-dom-odborov/
LOCATION:Žilina Dom odborov
CATEGORIES:Koncert
ATTACH;FMTTYPE=image/jpeg:https://www.rockon.sk/wp-content/uploads/2024/03/mirai-slovensketour-2024.jpg
END:VEVENT
BEGIN:VEVENT
DTSTART;TZID=Europe/Bratislava:20240405T200000
DTEND;TZID=Europe/Bratislava:20240405T220000
DTSTAMP:20260426T052018
CREATED:20240405T090602Z
LAST-MODIFIED:20240405T090602Z
UID:4485-1712347200-1712354400@www.rockon.sk
SUMMARY:Mirai koncert Trenčín Piano club
DESCRIPTION:MIRAI  je v súčasnosti najpopulárnejšia česká kapela a je skvelé\, že  sa rozhodla opäť potešiť aj nás na Slovensku. Vypredané halové turné\, obrovský úspech v O2 arénach\, neopísatelná energia\, nové single\, prekvapenia a ešte mnoho ďalšieho\, to všetko čaká fanúšikov v Bratislave\, Trenčíne\, Žiline\, Košiciach a Nitre s názvom sLOVEnsko túr.
URL:https://www.rockon.sk/event/mirai-koncert-trencin-piano-club/
CATEGORIES:Koncert
ATTACH;FMTTYPE=image/jpeg:https://www.rockon.sk/wp-content/uploads/2024/03/mirai-slovensketour-2024.jpg
END:VEVENT
BEGIN:VEVENT
DTSTART;VALUE=DATE:20240330
DTEND;VALUE=DATE:20240331
DTSTAMP:20260426T052018
CREATED:20240126T184511Z
LAST-MODIFIED:20240126T184511Z
UID:4229-1711756800-1711843199@www.rockon.sk
SUMMARY:Trenchtown gangsters vol.II
DESCRIPTION:
URL:https://www.rockon.sk/event/trenchtown-gangsters-vol-ii/
LOCATION:Klub Lúč\, Trenčín\, Slovenská republika
CATEGORIES:Punk
END:VEVENT
BEGIN:VEVENT
DTSTART;VALUE=DATE:20240314
DTEND;VALUE=DATE:20240315
DTSTAMP:20260426T052018
CREATED:20240126T184239Z
LAST-MODIFIED:20240126T184239Z
UID:4226-1710374400-1710460799@www.rockon.sk
SUMMARY:THERION Leviathan tour 2024
DESCRIPTION:
URL:https://www.rockon.sk/event/therion-leviathan-tour-2024/
LOCATION:MAJESTIC MUSIC CLUB\, Bratislava\, Slovenská republika
CATEGORIES:Metal
ATTACH;FMTTYPE=image/jpeg:https://www.rockon.sk/wp-content/uploads/2024/01/408166679_1026467868441935_2167301953489927678_n.jpg
END:VEVENT
BEGIN:VEVENT
DTSTART;VALUE=DATE:20240302
DTEND;VALUE=DATE:20240303
DTSTAMP:20260426T052018
CREATED:20240126T183656Z
LAST-MODIFIED:20240126T183656Z
UID:4223-1709337600-1709423999@www.rockon.sk
SUMMARY:HEĽENINE OČI (SK) + DIRTY SHIRT (RO) - Bratislava
DESCRIPTION:
URL:https://www.rockon.sk/event/helenine-oci-sk-dirty-shirt-ro-bratislava/
LOCATION:Randal club\, Bratislava\, Slovenská republika
ATTACH;FMTTYPE=image/jpeg:https://www.rockon.sk/wp-content/uploads/2024/01/398687606_910823907173656_5841282755072182721_n.jpg
END:VEVENT
BEGIN:VEVENT
DTSTART;VALUE=DATE:20240301
DTEND;VALUE=DATE:20240302
DTSTAMP:20260426T052018
CREATED:20240126T183355Z
LAST-MODIFIED:20240126T183455Z
UID:4220-1709251200-1709337599@www.rockon.sk
SUMMARY:HEĽENINE OČI (SK) + DIRTY SHIRT (RO) - ZLÍN
DESCRIPTION:
URL:https://www.rockon.sk/event/helenine-oci-sk-dirty-shirt-ro-zlin/
LOCATION:Masters of rock cafe\, Zlín\, Česká republika
ATTACH;FMTTYPE=image/jpeg:https://www.rockon.sk/wp-content/uploads/2024/01/398687606_910823907173656_5841282755072182721_n.jpg
END:VEVENT
BEGIN:VEVENT
DTSTART;VALUE=DATE:20240229
DTEND;VALUE=DATE:20240301
DTSTAMP:20260426T052018
CREATED:20240126T182950Z
LAST-MODIFIED:20240126T183055Z
UID:4211-1709164800-1709251199@www.rockon.sk
SUMMARY:HEĽENINE OČI (SK) + DIRTY SHIRT (RO) - PRAHA
DESCRIPTION:
URL:https://www.rockon.sk/event/helenine-oci-sk-dirty-shirt-ro/
LOCATION:Futurum music club\, Praha\, Praha\, Česká republika
ATTACH;FMTTYPE=image/jpeg:https://www.rockon.sk/wp-content/uploads/2024/01/398687606_910823907173656_5841282755072182721_n.jpg
END:VEVENT
BEGIN:VEVENT
DTSTART;TZID=Europe/Bratislava:20231215T180000
DTEND;TZID=Europe/Bratislava:20231215T220000
DTSTAMP:20260426T052018
CREATED:20231208T133741Z
LAST-MODIFIED:20231208T133741Z
UID:4093-1702663200-1702677600@www.rockon.sk
SUMMARY:Darujme Vianoce
DESCRIPTION:Dolnokubínská veselá partia chalanov\, ktorých poznáme pod názvom ich hudobnej skupiny P.O.H. začala vlani s krásnou dobročinnou tradíciou darovania na Vianoce. \nDARUJME VIANOCE je názov benefičného koncertu\, ktorý kapela organizuje tento rok po minuloročnom úspechu opäť a teda už druhýkrát sa stretnú fanúšikovia dobrej a veselej muzičky\, ktorí zároveň môžu urobiť dobrý skutok a pomôcť tým\, ktorí to potrebujú. Zvlášť teraz pred Vianocami. \nTento rok pomoc a výťažok z podujatia smerujú hudobníci na Jožka\, ktorému pred 4 mi rokmi zomrela manželka a ostal na výchovu 5-tich synov sám. \nEšte počas života manželky pracoval Jožko v zahraničí. Vzali si hypotéku\, ale po smrti manželky sa musel ostať doma starať o chlapcov. Najmladší mal vtedy len 2 roky. A keďže stresy a žiaľ robia svoje\, podpísalo sa to aj na Jožkovom zdravotnom stave. Jožko v už aj tak ťažkej životnej situácii dostal infarkt. Momentálne je na invalidnom dôchodku a mesačne minie veľa peňazí na lieky a pre synov mu už takmer nič neostáva. Priznáva\, že boli chvíle\, keď mal pocit\, že to už nezvládne. Okrem dvoch už dospelých synov\, ktorí sa snažia pomôcť ako sa dá\, sa musí starať o troch chlapcov. Jeden je študent na vysokej škole a dvaja navštevujú základnú školu\, pričom  ten najmladší je ešte len prváčik. \nA keďže hudba spája\, ľudia sa radi bavia a  v čase Vianoc aj radi pomáhajú\,  chalani z kapely dúfajú\, že aj tento rok bude koncert vydarený a že sa pomôže aj Jožkovi a jeho synom. \n„Tešíme sa na Vás v piatok\, 15.12. 2023\, o 18:00 pred PIZZÉRIOU OÁZA v Dolnom Kubíne. Okrem nás a našej tvorby si môžete vypočuť aj Nikitah tiež z  Dolného Kubína a kapelu MAYBE\,“ pozývajú chlapci z P.O.H.
URL:https://www.rockon.sk/event/darujme-vianoce/
LOCATION:Pred pizzeriou OÁZA\, Radlinského 1733/33\, Dolný Kubín\, Orava\, Slovenská republika
CATEGORIES:Rock
ATTACH;FMTTYPE=image/jpeg:https://www.rockon.sk/wp-content/uploads/2023/12/407382039_855989636526883_6076173496281420497_n.jpg
END:VEVENT
END:VCALENDAR